BEGIN:VCALENDAR
VERSION:2.0
PRODID:-//Peak Sport And Spine Centre - ECPv6.15.20//NONSGML v1.0//EN
CALSCALE:GREGORIAN
METHOD:PUBLISH
X-WR-CALNAME:Peak Sport And Spine Centre
X-ORIGINAL-URL:https://www.peaksportsandspinecentre.com.au
X-WR-CALDESC:Events for Peak Sport And Spine Centre
REFRESH-INTERVAL;VALUE=DURATION:PT1H
X-Robots-Tag:noindex
X-PUBLISHED-TTL:PT1H
BEGIN:VTIMEZONE
TZID:Australia/Sydney
BEGIN:STANDARD
TZOFFSETFROM:+1100
TZOFFSETTO:+1000
TZNAME:AEST
DTSTART:20250405T160000
END:STANDARD
BEGIN:DAYLIGHT
TZOFFSETFROM:+1000
TZOFFSETTO:+1100
TZNAME:AEDT
DTSTART:20251004T160000
END:DAYLIGHT
BEGIN:STANDARD
TZOFFSETFROM:+1100
TZOFFSETTO:+1000
TZNAME:AEST
DTSTART:20260404T160000
END:STANDARD
BEGIN:DAYLIGHT
TZOFFSETFROM:+1000
TZOFFSETTO:+1100
TZNAME:AEDT
DTSTART:20261003T160000
END:DAYLIGHT
BEGIN:STANDARD
TZOFFSETFROM:+1100
TZOFFSETTO:+1000
TZNAME:AEST
DTSTART:20270403T160000
END:STANDARD
BEGIN:DAYLIGHT
TZOFFSETFROM:+1000
TZOFFSETTO:+1100
TZNAME:AEDT
DTSTART:20271002T160000
END:DAYLIGHT
END:VTIMEZONE
BEGIN:VEVENT
DTSTART;VALUE=DATE:20260101
DTEND;VALUE=DATE:20260102
DTSTAMP:20260420T225337
CREATED:20260109T220241Z
LAST-MODIFIED:20260203T145840Z
UID:13566-1767225600-1767311999@www.peaksportsandspinecentre.com.au
SUMMARY:Level 2 Dry Needling - Building on your foundations we teach you advanced needling techniques.
DESCRIPTION:Overview\nHere’s the overview details \nCourse Objectives\n\nObjective one\nObjective two\nObjective three\n\nCourse Requirements\n… \nAgenda\n…
URL:https://www.peaksportsandspinecentre.com.au/course/level-2-dry-needling-building-on-your-foundations-we-teach-you-advanced-needling-techniques/
LOCATION:Peak Sports And Spine Centre\, 1/15 Lamington St\, New Farm\, QLD\, 4005\, Australia
CATEGORIES:Dry Needling
ATTACH;FMTTYPE=image/png:https://www.peaksportsandspinecentre.com.au/wp-content/uploads/2026/01/Peak-Ticket-Photo.png
END:VEVENT
END:VCALENDAR