BEGIN:VCALENDAR
VERSION:2.0
PRODID:-//Peak Sport And Spine Centre - ECPv6.15.20//NONSGML v1.0//EN
CALSCALE:GREGORIAN
METHOD:PUBLISH
X-ORIGINAL-URL:https://www.peaksportsandspinecentre.com.au
X-WR-CALDESC:Events for Peak Sport And Spine Centre
REFRESH-INTERVAL;VALUE=DURATION:PT1H
X-Robots-Tag:noindex
X-PUBLISHED-TTL:PT1H
BEGIN:VTIMEZONE
TZID:Australia/Sydney
BEGIN:STANDARD
TZOFFSETFROM:+1100
TZOFFSETTO:+1000
TZNAME:AEST
DTSTART:20250405T160000
END:STANDARD
BEGIN:DAYLIGHT
TZOFFSETFROM:+1000
TZOFFSETTO:+1100
TZNAME:AEDT
DTSTART:20251004T160000
END:DAYLIGHT
BEGIN:STANDARD
TZOFFSETFROM:+1100
TZOFFSETTO:+1000
TZNAME:AEST
DTSTART:20260404T160000
END:STANDARD
BEGIN:DAYLIGHT
TZOFFSETFROM:+1000
TZOFFSETTO:+1100
TZNAME:AEDT
DTSTART:20261003T160000
END:DAYLIGHT
BEGIN:STANDARD
TZOFFSETFROM:+1100
TZOFFSETTO:+1000
TZNAME:AEST
DTSTART:20270403T160000
END:STANDARD
BEGIN:DAYLIGHT
TZOFFSETFROM:+1000
TZOFFSETTO:+1100
TZNAME:AEDT
DTSTART:20271002T160000
END:DAYLIGHT
END:VTIMEZONE
BEGIN:VEVENT
DTSTART;TZID=Australia/Sydney:20260328T090000
DTEND;TZID=Australia/Sydney:20260328T170000
DTSTAMP:20260421T030653
CREATED:20260109T220043Z
LAST-MODIFIED:20260211T144912Z
UID:10000005-1774688400-1774717200@www.peaksportsandspinecentre.com.au
SUMMARY:Lower Limb Dry Needling for Podiatrists
DESCRIPTION:About this course\nThis practical course is designed for podiatrists seeking an introductory dry needling framework focused on the lower limb. You will learn a safe\, effective and evidence-informed approach to dry needling that can be confidently applied in clinical practice.  \nThe course emphasises hands-on skill development\, covering key lower limb muscles\, clinical reasoning\, safety and needle technique.  \nBy the end of the course\, you will have the confidence to integrate dry needling into your podiatry practice to support pain management and movement outcomes. \nView Detailed Course Information
URL:https://www.peaksportsandspinecentre.com.au/course/lower-limb-dry-needling-for-podiatrists/
LOCATION:Peak Sports And Spine Centre\, 1/15 Lamington St\, New Farm\, QLD\, 4005\, Australia
CATEGORIES:Dry Needling
ATTACH;FMTTYPE=image/webp:https://www.peaksportsandspinecentre.com.au/wp-content/uploads/2026/01/DNFP.webp
ORGANIZER;CN="Peak Sports And Spine Centre - New Farm":MAILTO:info@peaksportsandspinecentre.com
END:VEVENT
BEGIN:VEVENT
DTSTART;VALUE=DATE:20260101
DTEND;VALUE=DATE:20260102
DTSTAMP:20260421T030653
CREATED:20260109T220309Z
LAST-MODIFIED:20260203T145823Z
UID:10000008-1767225600-1767311999@www.peaksportsandspinecentre.com.au
SUMMARY:Level 1 - Thoracic and Lumbar Spine
DESCRIPTION:Overview\nHere’s the overview details \nCourse Objectives\n\nObjective one\nObjective two\nObjective three\n\nCourse Requirements\n… \nAgenda\n…
URL:https://www.peaksportsandspinecentre.com.au/course/level-1-thoracic-and-lumbar-spine/
LOCATION:Peak Sports And Spine Centre\, 1/15 Lamington St\, New Farm\, QLD\, 4005\, Australia
CATEGORIES:Spinal Manipulation
ATTACH;FMTTYPE=image/png:https://www.peaksportsandspinecentre.com.au/wp-content/uploads/2026/01/Peak-Ticket-Photo.png
END:VEVENT
BEGIN:VEVENT
DTSTART;VALUE=DATE:20260101
DTEND;VALUE=DATE:20260102
DTSTAMP:20260421T030653
CREATED:20260109T220241Z
LAST-MODIFIED:20260203T145840Z
UID:10000007-1767225600-1767311999@www.peaksportsandspinecentre.com.au
SUMMARY:Level 2 Dry Needling - Building on your foundations we teach you advanced needling techniques.
DESCRIPTION:Overview\nHere’s the overview details \nCourse Objectives\n\nObjective one\nObjective two\nObjective three\n\nCourse Requirements\n… \nAgenda\n…
URL:https://www.peaksportsandspinecentre.com.au/course/level-2-dry-needling-building-on-your-foundations-we-teach-you-advanced-needling-techniques/
LOCATION:Peak Sports And Spine Centre\, 1/15 Lamington St\, New Farm\, QLD\, 4005\, Australia
CATEGORIES:Dry Needling
ATTACH;FMTTYPE=image/png:https://www.peaksportsandspinecentre.com.au/wp-content/uploads/2026/01/Peak-Ticket-Photo.png
END:VEVENT
BEGIN:VEVENT
DTSTART;VALUE=DATE:20260101
DTEND;VALUE=DATE:20260102
DTSTAMP:20260421T030653
CREATED:20260109T220136Z
LAST-MODIFIED:20260203T145804Z
UID:10000006-1767225600-1767311999@www.peaksportsandspinecentre.com.au
SUMMARY:Level 1 Dry Needling - Foundations for Physiotherapist\, Chiropractors\, Osteopaths and OT's
DESCRIPTION:About this course\nThis Level 1 Dry Needling course is designed for physiotherapists\, chiropractors\, and osteopaths seeking a structured introduction to the assessment and treatment of myofascial pain and dysfunction across both acute and chronic musculoskeletal presentations. \nThe course provides a clinically grounded framework for understanding how the neuromuscular system contributes to pain\, movement restriction\, and dysfunction. Drawing on decades of real-world clinical experience alongside contemporary research\, the program integrates multiple established dry needling concepts into a practical\, cohesive approach that can be applied immediately in clinical practice. \nBy the end of the course\, participants will have a solid foundation in dry needling principles\, enhanced clinical reasoning and the practical skills required to safely integrate dry needling into musculoskeletal care. \nView Detailed Course Information
URL:https://www.peaksportsandspinecentre.com.au/course/level-1-dry-needling-foundations-for-physiotherapist-chiropractors-osteopaths-and-ots/
LOCATION:Peak Sports And Spine Centre\, 1/15 Lamington St\, New Farm\, QLD\, 4005\, Australia
CATEGORIES:Dry Needling
ATTACH;FMTTYPE=image/webp:https://www.peaksportsandspinecentre.com.au/wp-content/uploads/2026/01/Dryneedling.webp
ORGANIZER;CN="Peak Sports And Spine Centre - New Farm":MAILTO:info@peaksportsandspinecentre.com
END:VEVENT
END:VCALENDAR